BEGIN:VCALENDAR
PRODID:-//AT Content Types//AT Event//EN
VERSION:1.0
BEGIN:VEVENT
DTSTART:20211110T180000Z
DTEND:20211110T193000Z
DCREATED:20180626T075610Z
UID:ATEvent-99fe85311db442729a0fed42b6f8a43e
SEQUENCE:0
LAST-MODIFIED:20210707T093644Z
SUMMARY:Von der Digitalisierung zur Humanisierung
DESCRIPTION:Vortragsreihe 2021 - Auf die Seele schauen. Digitalisierun
 g. Fluch und Segen.
LOCATION:Kulturhaus Dornbirn
PRIORITY:3
TRANSP:0
END:VEVENT
END:VCALENDAR
